BEGIN:VCALENDAR
VERSION:2.0
PRODID:-//Christ Gospel Mission Ministries - ECPv6.15.17//NONSGML v1.0//EN
CALSCALE:GREGORIAN
METHOD:PUBLISH
X-ORIGINAL-URL:https://cgmmpak.org
X-WR-CALDESC:Events for Christ Gospel Mission Ministries
REFRESH-INTERVAL;VALUE=DURATION:PT1H
X-Robots-Tag:noindex
X-PUBLISHED-TTL:PT1H
BEGIN:VTIMEZONE
TZID:UTC
BEGIN:STANDARD
TZOFFSETFROM:+0000
TZOFFSETTO:+0000
TZNAME:UTC
DTSTART:20250101T000000
END:STANDARD
END:VTIMEZONE
BEGIN:VEVENT
DTSTART;TZID=UTC:20260331T080000
DTEND;TZID=UTC:20260831T170000
DTSTAMP:20260421T152234
CREATED:20241211T092836Z
LAST-MODIFIED:20260226T060830Z
UID:385-1774944000-1788195600@cgmmpak.org
SUMMARY:Free Mobile Medical Camp
DESCRIPTION:Providing free medical checkups\, medicine\, and health awareness for underprivileged families. \nOur medical team is heading to remote villages to provide life-saving healthcare. We offer free consultations\, basic medicines\, and hygiene education. This event aims to serve the physical needs of our community as we reflect the compassion of Christ the Healer.
URL:https://cgmmpak.org/event/free-mobile-medical-camp/
LOCATION:Lahore\, Pakistan
ATTACH;FMTTYPE=image/png:https://cgmmpak.org/wp-content/uploads/2024/12/Free-Medicine-Murree-Medical-Camp-panorama-929569faa20ed8fa083aaa94be451d9c-7srwim15gefh-1024x512-1.png
END:VEVENT
BEGIN:VEVENT
DTSTART;TZID=UTC:20260430T080000
DTEND;TZID=UTC:20260930T170000
DTSTAMP:20260421T152234
CREATED:20241211T092804Z
LAST-MODIFIED:20260226T060820Z
UID:384-1777536000-1790787600@cgmmpak.org
SUMMARY:Youth Bible & Leadership Seminar
DESCRIPTION:A one-day training seminar for Christian youth to grow in leadership and Biblical knowledge. \nWe are gathering young believers from across Punjab for a day of intensive Bible study and leadership training. Our goal is to equip the next generation to serve their local churches and become lights in their communities. Includes lunch and study materials.
URL:https://cgmmpak.org/event/youth-bible-leadership-seminar/
LOCATION:Lahore\, Pakistan
ATTACH;FMTTYPE=image/jpeg:https://cgmmpak.org/wp-content/uploads/2026/02/IMG-20191223-WA0220-1024x768-1.jpg
END:VEVENT
END:VCALENDAR